BEGIN:VCALENDAR
VERSION:2.0
PRODID:-//Popular Rotorcraft Association - ECPv6.15.20//NONSGML v1.0//EN
CALSCALE:GREGORIAN
METHOD:PUBLISH
X-WR-CALNAME:Popular Rotorcraft Association
X-ORIGINAL-URL:https://pra.org
X-WR-CALDESC:Events for Popular Rotorcraft Association
REFRESH-INTERVAL;VALUE=DURATION:PT1H
X-Robots-Tag:noindex
X-PUBLISHED-TTL:PT1H
BEGIN:VTIMEZONE
TZID:America/Chicago
BEGIN:DAYLIGHT
TZOFFSETFROM:-0600
TZOFFSETTO:-0500
TZNAME:CDT
DTSTART:20250309T080000
END:DAYLIGHT
BEGIN:STANDARD
TZOFFSETFROM:-0500
TZOFFSETTO:-0600
TZNAME:CST
DTSTART:20251102T070000
END:STANDARD
BEGIN:DAYLIGHT
TZOFFSETFROM:-0600
TZOFFSETTO:-0500
TZNAME:CDT
DTSTART:20260308T080000
END:DAYLIGHT
BEGIN:STANDARD
TZOFFSETFROM:-0500
TZOFFSETTO:-0600
TZNAME:CST
DTSTART:20261101T070000
END:STANDARD
BEGIN:DAYLIGHT
TZOFFSETFROM:-0600
TZOFFSETTO:-0500
TZNAME:CDT
DTSTART:20270314T080000
END:DAYLIGHT
BEGIN:STANDARD
TZOFFSETFROM:-0500
TZOFFSETTO:-0600
TZNAME:CST
DTSTART:20271107T070000
END:STANDARD
END:VTIMEZONE
BEGIN:VEVENT
DTSTART;VALUE=DATE:20260408
DTEND;VALUE=DATE:20260412
DTSTAMP:20260423T105031
CREATED:20241224T173616Z
LAST-MODIFIED:20260113T200930Z
UID:5030-1775606400-1775951999@pra.org
SUMMARY:Bensen Days 2026
DESCRIPTION:
URL:https://pra.org/event/bensen-days-2026/
LOCATION:Wauchula\, FL\, 1202 Maurice Sonny Clavel Road\, Wauchula\, FL\, 33873\, United States
END:VEVENT
END:VCALENDAR