BEGIN:VCALENDAR
VERSION:2.0
PRODID:-//Popular Rotorcraft Association - ECPv6.15.20//NONSGML v1.0//EN
CALSCALE:GREGORIAN
METHOD:PUBLISH
X-WR-CALNAME:Popular Rotorcraft Association
X-ORIGINAL-URL:https://pra.org
X-WR-CALDESC:Events for Popular Rotorcraft Association
REFRESH-INTERVAL;VALUE=DURATION:PT1H
X-Robots-Tag:noindex
X-PUBLISHED-TTL:PT1H
BEGIN:VTIMEZONE
TZID:America/Chicago
BEGIN:DAYLIGHT
TZOFFSETFROM:-0600
TZOFFSETTO:-0500
TZNAME:CDT
DTSTART:20250309T080000
END:DAYLIGHT
BEGIN:STANDARD
TZOFFSETFROM:-0500
TZOFFSETTO:-0600
TZNAME:CST
DTSTART:20251102T070000
END:STANDARD
BEGIN:DAYLIGHT
TZOFFSETFROM:-0600
TZOFFSETTO:-0500
TZNAME:CDT
DTSTART:20260308T080000
END:DAYLIGHT
BEGIN:STANDARD
TZOFFSETFROM:-0500
TZOFFSETTO:-0600
TZNAME:CST
DTSTART:20261101T070000
END:STANDARD
BEGIN:DAYLIGHT
TZOFFSETFROM:-0600
TZOFFSETTO:-0500
TZNAME:CDT
DTSTART:20270314T080000
END:DAYLIGHT
BEGIN:STANDARD
TZOFFSETFROM:-0500
TZOFFSETTO:-0600
TZNAME:CST
DTSTART:20271107T070000
END:STANDARD
END:VTIMEZONE
BEGIN:VTIMEZONE
TZID:America/Los_Angeles
BEGIN:DAYLIGHT
TZOFFSETFROM:-0800
TZOFFSETTO:-0700
TZNAME:PDT
DTSTART:20250309T100000
END:DAYLIGHT
BEGIN:STANDARD
TZOFFSETFROM:-0700
TZOFFSETTO:-0800
TZNAME:PST
DTSTART:20251102T090000
END:STANDARD
BEGIN:DAYLIGHT
TZOFFSETFROM:-0800
TZOFFSETTO:-0700
TZNAME:PDT
DTSTART:20260308T100000
END:DAYLIGHT
BEGIN:STANDARD
TZOFFSETFROM:-0700
TZOFFSETTO:-0800
TZNAME:PST
DTSTART:20261101T090000
END:STANDARD
BEGIN:DAYLIGHT
TZOFFSETFROM:-0800
TZOFFSETTO:-0700
TZNAME:PDT
DTSTART:20270314T100000
END:DAYLIGHT
BEGIN:STANDARD
TZOFFSETFROM:-0700
TZOFFSETTO:-0800
TZNAME:PST
DTSTART:20271107T090000
END:STANDARD
END:VTIMEZONE
BEGIN:VEVENT
DTSTART;VALUE=DATE:20260513
DTEND;VALUE=DATE:20260517
DTSTAMP:20260423T064752
CREATED:20241225T162403Z
LAST-MODIFIED:20260113T233113Z
UID:5036-1778630400-1778975999@pra.org
SUMMARY:Carolina Barnstormers - Spring Wing Ding
DESCRIPTION: 
URL:https://pra.org/event/carolina-barnstormers-s26/
LOCATION:KAFP Anson County Airport\, 2980 Airport Road\, Wadesboro\, NC\, 21870
END:VEVENT
BEGIN:VEVENT
DTSTART;TZID=America/Chicago:20260725T080000
DTEND;TZID=America/Chicago:20260727T170000
DTSTAMP:20260423T064752
CREATED:20260403T235405Z
LAST-MODIFIED:20260415T203509Z
UID:6246-1784966400-1785171600@pra.org
SUMMARY:GRASSROOTS GYRO WORKSHOP
DESCRIPTION:Click here for more info and to register
URL:https://pra.org/event/grassroots-gyro-workshop/
LOCATION:Mentone Airport\, 12296 WEST 600 SOUTH ST\, Mentone\, IN\, 46539\, United States
END:VEVENT
BEGIN:VEVENT
DTSTART;VALUE=DATE:20260729
DTEND;VALUE=DATE:20260802
DTSTAMP:20260423T064752
CREATED:20241224T174142Z
LAST-MODIFIED:20260113T200336Z
UID:5034-1785283200-1785628799@pra.org
SUMMARY:PRA Mentone Annual Convention
DESCRIPTION:
URL:https://pra.org/event/pra-mentone-annual-convention/
LOCATION:Mentone Airport\, 12296 WEST 600 SOUTH ST\, Mentone\, IN\, 46539\, United States
END:VEVENT
BEGIN:VEVENT
DTSTART;VALUE=DATE:20260925
DTEND;VALUE=DATE:20260928
DTSTAMP:20260423T064752
CREATED:20240719T183529Z
LAST-MODIFIED:20260113T234306Z
UID:4716-1790294400-1790553599@pra.org
SUMMARY:Ken Brock Freedom Flyin
DESCRIPTION:
URL:https://pra.org/event/kbffi26/
LOCATION:El Mirage Dry Lake\, 20471 Mountain View Rd\, Adelanto\, CA\, 92301
END:VEVENT
BEGIN:VEVENT
DTSTART;VALUE=DATE:20261016
DTEND;VALUE=DATE:20261018
DTSTAMP:20260423T064752
CREATED:20260115T155349Z
LAST-MODIFIED:20260115T161532Z
UID:6178-1792108800-1792281599@pra.org
SUMMARY:Lone Star RotorCraft Club 2026
DESCRIPTION:
URL:https://pra.org/event/lone-star-rotorcraft-club-2026/
LOCATION:336 Airport Rd\, Anahuac\, TX 77514\, 336 Airport Rd\, Anahuac\, TX\, 77514\, United States
END:VEVENT
END:VCALENDAR